BEGIN:VCALENDAR
VERSION:2.0
PRODID:-//MTC De Lingerijders - ECPv6.15.20//NONSGML v1.0//EN
CALSCALE:GREGORIAN
METHOD:PUBLISH
X-WR-CALNAME:MTC De Lingerijders
X-ORIGINAL-URL:https://mtcdelingerijders.nl
X-WR-CALDESC:Evenementen voor MTC De Lingerijders
REFRESH-INTERVAL;VALUE=DURATION:PT1H
X-Robots-Tag:noindex
X-PUBLISHED-TTL:PT1H
BEGIN:VTIMEZONE
TZID:UTC
BEGIN:STANDARD
TZOFFSETFROM:+0000
TZOFFSETTO:+0000
TZNAME:UTC
DTSTART:20250101T000000
END:STANDARD
END:VTIMEZONE
BEGIN:VEVENT
DTSTART;TZID=UTC:20260426T090000
DTEND;TZID=UTC:20260426T090000
DTSTAMP:20260424T125849
CREATED:20260127T101659Z
LAST-MODIFIED:20260127T101912Z
UID:828-1777194000-1777194000@mtcdelingerijders.nl
SUMMARY:marikenrit
DESCRIPTION:
URL:https://mtcdelingerijders.nl/event/marikenrit-2/
LOCATION:La Place Enspijk\, Panweg 3\, Enspijk\, Gelderland\, 4157 PB\, Netherlands
END:VEVENT
BEGIN:VEVENT
DTSTART;TZID=UTC:20260502T080000
DTEND;TZID=UTC:20260503T080000
DTSTAMP:20260424T125849
CREATED:20260127T102059Z
LAST-MODIFIED:20260127T102116Z
UID:832-1777708800-1777795200@mtcdelingerijders.nl
SUMMARY:Weekendrit
DESCRIPTION:
URL:https://mtcdelingerijders.nl/event/weekendrit/
LOCATION:La Place Enspijk\, Panweg 3\, Enspijk\, Gelderland\, 4157 PB\, Netherlands
END:VEVENT
BEGIN:VEVENT
DTSTART;TZID=UTC:20260516T183000
DTEND;TZID=UTC:20260516T183000
DTSTAMP:20260424T125849
CREATED:20241230T140501Z
LAST-MODIFIED:20260127T102312Z
UID:312-1778956200-1778956200@mtcdelingerijders.nl
SUMMARY:1e zaterdagavondvierdaagse
DESCRIPTION:
URL:https://mtcdelingerijders.nl/event/1e-avondvierdaagse/
LOCATION:Motorcentrum geldermalsen\, Laageinde 17\, Geldermalsen\, Gelderland\, 4191 NR\, Netherlands
END:VEVENT
BEGIN:VEVENT
DTSTART;TZID=UTC:20260531T083000
DTEND;TZID=UTC:20260531T083000
DTSTAMP:20260424T125849
CREATED:20260127T102422Z
LAST-MODIFIED:20260127T102422Z
UID:835-1780216200-1780216200@mtcdelingerijders.nl
SUMMARY:museumrit
DESCRIPTION:
URL:https://mtcdelingerijders.nl/event/museumrit/
LOCATION:La Place Enspijk\, Panweg 3\, Enspijk\, Gelderland\, 4157 PB\, Netherlands
END:VEVENT
BEGIN:VEVENT
DTSTART;TZID=UTC:20260606T183000
DTEND;TZID=UTC:20260606T183000
DTSTAMP:20260424T125849
CREATED:20241230T140640Z
LAST-MODIFIED:20260127T102703Z
UID:316-1780770600-1780770600@mtcdelingerijders.nl
SUMMARY:2e zaterdagavondvierdaagse
DESCRIPTION:
URL:https://mtcdelingerijders.nl/event/2e-avondvierdaagse/
LOCATION:Motorcentrum geldermalsen\, Laageinde 17\, Geldermalsen\, Gelderland\, 4191 NR\, Netherlands
END:VEVENT
BEGIN:VEVENT
DTSTART;TZID=UTC:20260612T190000
DTEND;TZID=UTC:20260612T190000
DTSTAMP:20260424T125849
CREATED:20241230T140722Z
LAST-MODIFIED:20260127T102624Z
UID:318-1781290800-1781290800@mtcdelingerijders.nl
SUMMARY:vrijdagavond ritje
DESCRIPTION:
URL:https://mtcdelingerijders.nl/event/vrijdagavond-toertje/
LOCATION:La Place Enspijk\, Panweg 3\, Enspijk\, Gelderland\, 4157 PB\, Netherlands
END:VEVENT
BEGIN:VEVENT
DTSTART;TZID=UTC:20260617T190000
DTEND;TZID=UTC:20260617T190000
DTSTAMP:20260424T125849
CREATED:20241230T140834Z
LAST-MODIFIED:20260127T103003Z
UID:322-1781722800-1781722800@mtcdelingerijders.nl
SUMMARY:Woensdag avondrit
DESCRIPTION:
URL:https://mtcdelingerijders.nl/event/woensdagavond-toertje/
LOCATION:La Place Enspijk\, Panweg 3\, Enspijk\, Gelderland\, 4157 PB\, Netherlands
END:VEVENT
BEGIN:VEVENT
DTSTART;TZID=UTC:20260626T190000
DTEND;TZID=UTC:20260626T190000
DTSTAMP:20260424T125849
CREATED:20241230T140922Z
LAST-MODIFIED:20260127T103140Z
UID:324-1782500400-1782500400@mtcdelingerijders.nl
SUMMARY:Vrijdag avondrit
DESCRIPTION:
URL:https://mtcdelingerijders.nl/event/vrijdagavond-toertje-2/
LOCATION:La Place Enspijk\, Panweg 3\, Enspijk\, Gelderland\, 4157 PB\, Netherlands
END:VEVENT
BEGIN:VEVENT
DTSTART;TZID=UTC:20260704T090000
DTEND;TZID=UTC:20260704T090000
DTSTAMP:20260424T125849
CREATED:20260127T103307Z
LAST-MODIFIED:20260127T103307Z
UID:841-1783155600-1783155600@mtcdelingerijders.nl
SUMMARY:Zomerrit
DESCRIPTION:
URL:https://mtcdelingerijders.nl/event/zomerrit/
LOCATION:La Place Enspijk\, Panweg 3\, Enspijk\, Gelderland\, 4157 PB\, Netherlands
END:VEVENT
BEGIN:VEVENT
DTSTART;VALUE=DATE:20260711
DTEND;VALUE=DATE:20260712
DTSTAMP:20260424T125849
CREATED:20241230T141012Z
LAST-MODIFIED:20260127T103431Z
UID:326-1783728000-1783814399@mtcdelingerijders.nl
SUMMARY:BBQ
DESCRIPTION:BBQ\n			\n				\n				\n				\n				\n				dit evenenement is besloten en alleen voor uitgenodigden. \n			\n			\n				\n				\n				\n				\n				\n				\n				\n				\n				\n				datum\n			\n				\n				\n				\n				\n				12 juli 2025 \n			\n				\n				\n				\n				\n				Tijd\n			\n				\n				\n				\n				\n				N.T.B. \n			\n				\n				\n				\n				\n				Locatie\n			\n				\n				\n				\n				\n				N.T.B.
URL:https://mtcdelingerijders.nl/event/bbq/
LOCATION:Gelderland
END:VEVENT
BEGIN:VEVENT
DTSTART;TZID=UTC:20260719T080000
DTEND;TZID=UTC:20260719T170000
DTSTAMP:20260424T125849
CREATED:20241230T141043Z
LAST-MODIFIED:20260127T103523Z
UID:328-1784448000-1784480400@mtcdelingerijders.nl
SUMMARY:Dikke rit
DESCRIPTION:
URL:https://mtcdelingerijders.nl/event/dikke-rit/
LOCATION:La Place Enspijk\, Panweg 3\, Enspijk\, Gelderland\, 4157 PB\, Netherlands
END:VEVENT
BEGIN:VEVENT
DTSTART;TZID=UTC:20260725T183000
DTEND;TZID=UTC:20260725T183000
DTSTAMP:20260424T125849
CREATED:20260127T103620Z
LAST-MODIFIED:20260127T103620Z
UID:844-1785004200-1785004200@mtcdelingerijders.nl
SUMMARY:3e zaterdagavondvierdaagse
DESCRIPTION:
URL:https://mtcdelingerijders.nl/event/3e-zaterdagavondvierdaagse/
LOCATION:Gelderland
END:VEVENT
BEGIN:VEVENT
DTSTART;TZID=UTC:20260809T083000
DTEND;TZID=UTC:20260809T083000
DTSTAMP:20260424T125849
CREATED:20241230T141200Z
LAST-MODIFIED:20260127T103934Z
UID:332-1786264200-1786264200@mtcdelingerijders.nl
SUMMARY:Havenrit
DESCRIPTION:
URL:https://mtcdelingerijders.nl/event/havenrit/
LOCATION:La Place Enspijk\, Panweg 3\, Enspijk\, Gelderland\, 4157 PB\, Netherlands
END:VEVENT
BEGIN:VEVENT
DTSTART;TZID=UTC:20260815T183000
DTEND;TZID=UTC:20260815T183000
DTSTAMP:20260424T125849
CREATED:20260127T104022Z
LAST-MODIFIED:20260127T104022Z
UID:846-1786818600-1786818600@mtcdelingerijders.nl
SUMMARY:4e zaterdagavondvierdaagse
DESCRIPTION:
URL:https://mtcdelingerijders.nl/event/4e-zaterdagavondvierdaagse/
LOCATION:Gelderland
END:VEVENT
BEGIN:VEVENT
DTSTART;TZID=UTC:20260904T080000
DTEND;TZID=UTC:20260906T235900
DTSTAMP:20260424T125849
CREATED:20241230T141414Z
LAST-MODIFIED:20260127T104110Z
UID:337-1788508800-1788739140@mtcdelingerijders.nl
SUMMARY:Najaarsweeekend
DESCRIPTION:Najaarsweekend\n			\n				\n				\n				\n				\n				dit evenenement is besloten en alleen voor uitgenodigden. \n			\n			\n				\n				\n				\n				\n				\n				\n				\n				\n				\n				datum\n			\n				\n				\n				\n				\n				5 t/m 8 September 2025 \n			\n				\n				\n				\n				\n				Tijd\n			\n				\n				\n				\n				\n				8:00 \n			\n				\n				\n				\n				\n				Locatie\n			\n				\n				\n				\n				\n				La place Enspijk
URL:https://mtcdelingerijders.nl/event/najaarsweeekend/
LOCATION:La Place Enspijk\, Panweg 3\, Enspijk\, Gelderland\, 4157 PB\, Netherlands
END:VEVENT
BEGIN:VEVENT
DTSTART;TZID=UTC:20260920T083000
DTEND;TZID=UTC:20260920T083000
DTSTAMP:20260424T125850
CREATED:20260127T104209Z
LAST-MODIFIED:20260127T104209Z
UID:848-1789893000-1789893000@mtcdelingerijders.nl
SUMMARY:weerribbenrit
DESCRIPTION:
URL:https://mtcdelingerijders.nl/event/weerribbenrit/
LOCATION:La Place Enspijk\, Panweg 3\, Enspijk\, Gelderland\, 4157 PB\, Netherlands
END:VEVENT
BEGIN:VEVENT
DTSTART;TZID=UTC:20260926T103000
DTEND;TZID=UTC:20260926T103000
DTSTAMP:20260424T125850
CREATED:20241230T141514Z
LAST-MODIFIED:20260127T104253Z
UID:341-1790418600-1790418600@mtcdelingerijders.nl
SUMMARY:Zaterdagrit
DESCRIPTION:
URL:https://mtcdelingerijders.nl/event/zaterdagrit/
LOCATION:La Place Enspijk\, Panweg 3\, Enspijk\, Gelderland\, 4157 PB\, Netherlands
END:VEVENT
BEGIN:VEVENT
DTSTART;TZID=UTC:20261004T083000
DTEND;TZID=UTC:20261004T083000
DTSTAMP:20260424T125850
CREATED:20241230T141546Z
LAST-MODIFIED:20260127T104417Z
UID:343-1791102600-1791102600@mtcdelingerijders.nl
SUMMARY:Herfstrit
DESCRIPTION:
URL:https://mtcdelingerijders.nl/event/herfstrit/
LOCATION:La Place Enspijk\, Panweg 3\, Enspijk\, Gelderland\, 4157 PB\, Netherlands
END:VEVENT
BEGIN:VEVENT
DTSTART;TZID=UTC:20261025T083000
DTEND;TZID=UTC:20261025T083000
DTSTAMP:20260424T125850
CREATED:20241230T141644Z
LAST-MODIFIED:20260127T104552Z
UID:347-1792917000-1792917000@mtcdelingerijders.nl
SUMMARY:Hameland Snertrit
DESCRIPTION:
URL:https://mtcdelingerijders.nl/event/hameland-snertrit/
LOCATION:La Place Enspijk\, Panweg 3\, Enspijk\, Gelderland\, 4157 PB\, Netherlands
END:VEVENT
BEGIN:VEVENT
DTSTART;TZID=UTC:20261107T120000
DTEND;TZID=UTC:20261107T170000
DTSTAMP:20260424T125850
CREATED:20241230T141735Z
LAST-MODIFIED:20260127T104737Z
UID:349-1794052800-1794070800@mtcdelingerijders.nl
SUMMARY:einde seizoen rit en snert eten
DESCRIPTION:Snertrit\n			\n				\n				\n				\n				\n				dit evenenement is besloten en alleen voor uitgenodigden. \n			\n			\n				\n				\n				\n				\n				\n				\n				\n				\n				\n				datum\n			\n				\n				\n				\n				\n				9 november 2025 \n			\n				\n				\n				\n				\n				Tijd\n			\n				\n				\n				\n				\n				12:00 \n			\n				\n				\n				\n				\n				Locatie\n			\n				\n				\n				\n				\n				La place Enspijk
URL:https://mtcdelingerijders.nl/event/snertrit/
LOCATION:La Place Enspijk\, Panweg 3\, Enspijk\, Gelderland\, 4157 PB\, Netherlands
END:VEVENT
BEGIN:VEVENT
DTSTART;TZID=UTC:20261129T090000
DTEND;TZID=UTC:20261129T170000
DTSTAMP:20260424T125850
CREATED:20241230T141804Z
LAST-MODIFIED:20260127T104823Z
UID:351-1795942800-1795971600@mtcdelingerijders.nl
SUMMARY:Wildrit
DESCRIPTION:
URL:https://mtcdelingerijders.nl/event/wildrit/
LOCATION:La Place Enspijk\, Panweg 3\, Enspijk\, Gelderland\, 4157 PB\, Netherlands
END:VEVENT
END:VCALENDAR